BEGIN:VCALENDAR
VERSION:2.0
PRODID:-//Plone.org//NONSGML plone.app.event//EN
X-WR-TIMEZONE:Brazil/East
BEGIN:VEVENT
SUMMARY:Sessão Extraordinária
DTSTART;TZID=Brazil/East;VALUE=DATE-TIME:20221223T190000
DTEND;TZID=Brazil/East;VALUE=DATE-TIME:20221223T200000
DTSTAMP;VALUE=DATE-TIME:20260419T181046Z
UID:092a5ba52c8c4c3e831f4a4b7cafc73b@www.alvaresmachado.sp.leg.br
CREATED;VALUE=DATE-TIME:20221216T002803Z
DESCRIPTION:Deliberação reformulação da L.O.M
LAST-MODIFIED;VALUE=DATE-TIME:20221216T003259Z
LOCATION:Plenário da Câmara
URL:https://www.alvaresmachado.sp.leg.br/institucional/eventos/sessao-extr
 aordinaria
END:VEVENT
BEGIN:VTIMEZONE
TZID:Brazil/East
X-LIC-LOCATION:Brazil/East
BEGIN:DAYLIGHT
DTSTART;VALUE=DATE-TIME:20221016T010000
TZNAME:BRST
TZOFFSETFROM:-0300
TZOFFSETTO:-0200
END:DAYLIGHT
END:VTIMEZONE
END:VCALENDAR
