BEGIN:VCALENDAR
VERSION:2.0
PRODID:-//Plone.org//NONSGML plone.app.event//EN
X-WR-TIMEZONE:Brazil/East
BEGIN:VEVENT
SUMMARY:Recesso  1/7/2024 a 31/7/2024
DTSTART;TZID=Brazil/East;VALUE=DATE-TIME:20240701T000000
DTEND;TZID=Brazil/East;VALUE=DATE-TIME:20240731T000000
DTSTAMP;VALUE=DATE-TIME:20260420T010758Z
UID:1e682d41f02b432e844e2cdc80401659@www.alvaresmachado.sp.leg.br
CREATED;VALUE=DATE-TIME:20240626T131936Z
DESCRIPTION:Art. 23\, da LOM. 
LAST-MODIFIED;VALUE=DATE-TIME:20240626T132033Z
URL:https://www.alvaresmachado.sp.leg.br/institucional/eventos/recesso-1-7
 -2024-a-1-8-2024
END:VEVENT
BEGIN:VTIMEZONE
TZID:Brazil/East
X-LIC-LOCATION:Brazil/East
BEGIN:STANDARD
DTSTART;VALUE=DATE-TIME:20240217T230000
TZNAME:BRT
TZOFFSETFROM:-0200
TZOFFSETTO:-0300
END:STANDARD
END:VTIMEZONE
END:VCALENDAR
