BEGIN:VCALENDAR
VERSION:2.0
PRODID:-//Plone.org//NONSGML plone.app.event//EN
X-WR-TIMEZONE:Brazil/East
BEGIN:VEVENT
SUMMARY:7ª SESSÃO ORDINÁRIA do 3ª ANO LEGISLATIVO da 18ª LEGISLATURA 
DTSTART;TZID=Brazil/East;VALUE=DATE-TIME:20230321T190000
DTEND;TZID=Brazil/East;VALUE=DATE-TIME:20230321T200000
DTSTAMP;VALUE=DATE-TIME:20260419T105715Z
UID:9f987ed621454122abe563bc84d0c900@www.alvaresmachado.sp.leg.br
CREATED;VALUE=DATE-TIME:20230307T140838Z
LAST-MODIFIED;VALUE=DATE-TIME:20230307T141228Z
LOCATION:Plenário
URL:https://www.alvaresmachado.sp.leg.br/institucional/eventos/7a-sessao-o
 rdinaria-do-3a-ano-legislativo-da-18a-legislatura
END:VEVENT
BEGIN:VTIMEZONE
TZID:Brazil/East
X-LIC-LOCATION:Brazil/East
BEGIN:STANDARD
DTSTART;VALUE=DATE-TIME:20230225T230000
TZNAME:BRT
TZOFFSETFROM:-0200
TZOFFSETTO:-0300
END:STANDARD
END:VTIMEZONE
END:VCALENDAR
