BEGIN:VCALENDAR
VERSION:2.0
PRODID:-//Plone.org//NONSGML plone.app.event//EN
X-WR-TIMEZONE:Brazil/East
BEGIN:VEVENT
SUMMARY:Sessão Ordinária 
DTSTART;TZID=Brazil/East;VALUE=DATE-TIME:20230801T190000
DTEND;TZID=Brazil/East;VALUE=DATE-TIME:20230801T210000
DTSTAMP;VALUE=DATE-TIME:20260419T091027Z
UID:7c800439151b469ebcbc949a1f1e958c@www.alvaresmachado.sp.leg.br
CONTACT:18 3273-1331\, camara@alvaresmachado.sp.leg.br
CREATED;VALUE=DATE-TIME:20230622T154408Z
LAST-MODIFIED;VALUE=DATE-TIME:20231011T202447Z
LOCATION:Plenário
RRULE:FREQ=WEEKLY;UNTIL=20231205T000000;BYDAY=TU
URL:https://www.alvaresmachado.sp.leg.br/institucional/eventos/22a-sessao-
 ordinaria-1
END:VEVENT
BEGIN:VTIMEZONE
TZID:Brazil/East
X-LIC-LOCATION:Brazil/East
BEGIN:STANDARD
DTSTART;VALUE=DATE-TIME:20230225T230000
TZNAME:BRT
TZOFFSETFROM:-0200
TZOFFSETTO:-0300
END:STANDARD
END:VTIMEZONE
END:VCALENDAR
