BEGIN:VCALENDAR
VERSION:2.0
PRODID:-//Plone.org//NONSGML plone.app.event//EN
X-WR-TIMEZONE:Brazil/East
BEGIN:VEVENT
SUMMARY:1ª Sessão Ordinária 
DTSTART;TZID=Brazil/East;VALUE=DATE-TIME:20230207T190000
DTEND;TZID=Brazil/East;VALUE=DATE-TIME:20230207T200000
DTSTAMP;VALUE=DATE-TIME:20260420T004747Z
UID:39b637566d0940fcb6a3dac0bac364ef@www.alvaresmachado.sp.leg.br
CREATED;VALUE=DATE-TIME:20230117T135843Z
DESCRIPTION:A Câmara Municipal convida toda população para participar d
 a 1ª Sessão Ordinária\, no dia 07/02/2023\, às 19h.
LAST-MODIFIED;VALUE=DATE-TIME:20230117T140011Z
LOCATION:Plenário
URL:https://www.alvaresmachado.sp.leg.br/institucional/eventos/1a-sessao-o
 rdinaria-1
END:VEVENT
BEGIN:VTIMEZONE
TZID:Brazil/East
X-LIC-LOCATION:Brazil/East
BEGIN:DAYLIGHT
DTSTART;VALUE=DATE-TIME:20221016T010000
TZNAME:BRST
TZOFFSETFROM:-0300
TZOFFSETTO:-0200
END:DAYLIGHT
END:VTIMEZONE
END:VCALENDAR
