BEGIN:VCALENDAR
VERSION:2.0
PRODID:-//Plone.org//NONSGML plone.app.event//EN
X-WR-TIMEZONE:Brazil/East
BEGIN:VEVENT
SUMMARY:19ª SESSÃO ORDINÁRIA do 3º ANO LEGISLATIVO da 18ª LEGISLATURA
 .
DTSTART;TZID=Brazil/East;VALUE=DATE-TIME:20230613T190000
DTEND;TZID=Brazil/East;VALUE=DATE-TIME:20230613T200000
DTSTAMP;VALUE=DATE-TIME:20260419T105710Z
UID:d0dd5756bedf430496d6542093db112b@www.alvaresmachado.sp.leg.br
CREATED;VALUE=DATE-TIME:20230613T005104Z
LAST-MODIFIED;VALUE=DATE-TIME:20230613T005108Z
LOCATION:PLENÁRIO
URL:https://www.alvaresmachado.sp.leg.br/institucional/eventos/19a-sessao-
 ordinaria-do-3o-ano-legislativo-da-18a-legislatura
END:VEVENT
BEGIN:VTIMEZONE
TZID:Brazil/East
X-LIC-LOCATION:Brazil/East
BEGIN:STANDARD
DTSTART;VALUE=DATE-TIME:20230225T230000
TZNAME:BRT
TZOFFSETFROM:-0200
TZOFFSETTO:-0300
END:STANDARD
END:VTIMEZONE
END:VCALENDAR
