BEGIN:VCALENDAR
VERSION:2.0
PRODID:-//Plone.org//NONSGML plone.app.event//EN
X-WR-TIMEZONE:Brazil/East
BEGIN:VEVENT
SUMMARY:15ª Sessão Ordinária - 2023
DTSTART;TZID=Brazil/East;VALUE=DATE-TIME:20230516T190000
DTEND;TZID=Brazil/East;VALUE=DATE-TIME:20230516T200000
DTSTAMP;VALUE=DATE-TIME:20260419T231925Z
UID:9b3a6ce602154798bcefa8f77d350102@www.alvaresmachado.sp.leg.br
CREATED;VALUE=DATE-TIME:20230511T110158Z
LAST-MODIFIED;VALUE=DATE-TIME:20230511T110204Z
LOCATION:Plenário
URL:https://www.alvaresmachado.sp.leg.br/institucional/eventos/15a-sessao-
 ordinaria-2023
END:VEVENT
BEGIN:VTIMEZONE
TZID:Brazil/East
X-LIC-LOCATION:Brazil/East
BEGIN:STANDARD
DTSTART;VALUE=DATE-TIME:20230225T230000
TZNAME:BRT
TZOFFSETFROM:-0200
TZOFFSETTO:-0300
END:STANDARD
END:VTIMEZONE
END:VCALENDAR
